BEGIN:VCALENDAR
VERSION:2.0
PRODID:-//YMCA of Greater Waukesha County - ECPv6.15.20//NONSGML v1.0//EN
CALSCALE:GREGORIAN
METHOD:PUBLISH
X-ORIGINAL-URL:https://www.gwcymca.org
X-WR-CALDESC:Events for YMCA of Greater Waukesha County
REFRESH-INTERVAL;VALUE=DURATION:PT1H
X-Robots-Tag:noindex
X-PUBLISHED-TTL:PT1H
BEGIN:VTIMEZONE
TZID:America/Chicago
BEGIN:DAYLIGHT
TZOFFSETFROM:-0600
TZOFFSETTO:-0500
TZNAME:CDT
DTSTART:20250309T080000
END:DAYLIGHT
BEGIN:STANDARD
TZOFFSETFROM:-0500
TZOFFSETTO:-0600
TZNAME:CST
DTSTART:20251102T070000
END:STANDARD
BEGIN:DAYLIGHT
TZOFFSETFROM:-0600
TZOFFSETTO:-0500
TZNAME:CDT
DTSTART:20260308T080000
END:DAYLIGHT
BEGIN:STANDARD
TZOFFSETFROM:-0500
TZOFFSETTO:-0600
TZNAME:CST
DTSTART:20261101T070000
END:STANDARD
BEGIN:DAYLIGHT
TZOFFSETFROM:-0600
TZOFFSETTO:-0500
TZNAME:CDT
DTSTART:20270314T080000
END:DAYLIGHT
BEGIN:STANDARD
TZOFFSETFROM:-0500
TZOFFSETTO:-0600
TZNAME:CST
DTSTART:20271107T070000
END:STANDARD
END:VTIMEZONE
BEGIN:VEVENT
DTSTART;TZID=America/Chicago:20260330T080000
DTEND;TZID=America/Chicago:20260330T090000
DTSTAMP:20260421T050835
CREATED:20251205T230526Z
LAST-MODIFIED:20251208T233530Z
UID:10500464-1774857600-1774861200@www.gwcymca.org
SUMMARY:Healthy Living Purple
DESCRIPTION:Helps adults at high risk of developing Type 2 diabetes adopt and maintain a healthy lifestyle. The program meets for 26 sessions over the course of a year. Goals include reducing body weight by 7% and increasing physical activity.
URL:https://www.gwcymca.org/program/healthy-living-purple-2/2026-03-30/
LOCATION:Southwest YMCA
CATEGORIES:Healthy living
END:VEVENT
BEGIN:VEVENT
DTSTART;TZID=America/Chicago:20260330T080000
DTEND;TZID=America/Chicago:20260330T090000
DTSTAMP:20260421T050835
CREATED:20251205T230526Z
LAST-MODIFIED:20251205T230526Z
UID:10501496-1774857600-1774861200@www.gwcymca.org
SUMMARY:Healthy Living Purple
DESCRIPTION:Helps adults at high risk of developing Type 2 diabetes adopt and maintain a healthy lifestyle. The program meets for 26 sessions over the course of a year. Goals include reducing body weight by 7% and increasing physical activity.
URL:https://www.gwcymca.org/program/healthy-living-purple-2/2026-03-30/
LOCATION:Southwest YMCA
CATEGORIES:Healthy living
END:VEVENT
BEGIN:VEVENT
DTSTART;TZID=America/Chicago:20260330T080000
DTEND;TZID=America/Chicago:20260330T090000
DTSTAMP:20260421T050835
CREATED:20251205T230526Z
LAST-MODIFIED:20251205T230526Z
UID:10501458-1774857600-1774861200@www.gwcymca.org
SUMMARY:Healthy Living Purple
DESCRIPTION:Helps adults at high risk of developing Type 2 diabetes adopt and maintain a healthy lifestyle. The program meets for 26 sessions over the course of a year. Goals include reducing body weight by 7% and increasing physical activity.
URL:https://www.gwcymca.org/program/healthy-living-purple-2/2026-03-30/
LOCATION:Southwest YMCA
CATEGORIES:Healthy living
END:VEVENT
BEGIN:VEVENT
DTSTART;TZID=America/Chicago:20260330T080000
DTEND;TZID=America/Chicago:20260330T090000
DTSTAMP:20260421T050835
CREATED:20251205T230526Z
LAST-MODIFIED:20251205T230526Z
UID:10501419-1774857600-1774861200@www.gwcymca.org
SUMMARY:Healthy Living Purple
DESCRIPTION:Helps adults at high risk of developing Type 2 diabetes adopt and maintain a healthy lifestyle. The program meets for 26 sessions over the course of a year. Goals include reducing body weight by 7% and increasing physical activity.
URL:https://www.gwcymca.org/program/healthy-living-purple-2/2026-03-30/
LOCATION:Southwest YMCA
CATEGORIES:Healthy living
END:VEVENT
BEGIN:VEVENT
DTSTART;TZID=America/Chicago:20260330T080000
DTEND;TZID=America/Chicago:20260330T090000
DTSTAMP:20260421T050835
CREATED:20251205T230526Z
LAST-MODIFIED:20251205T230526Z
UID:10501379-1774857600-1774861200@www.gwcymca.org
SUMMARY:Healthy Living Purple
DESCRIPTION:Helps adults at high risk of developing Type 2 diabetes adopt and maintain a healthy lifestyle. The program meets for 26 sessions over the course of a year. Goals include reducing body weight by 7% and increasing physical activity.
URL:https://www.gwcymca.org/program/healthy-living-purple-2/2026-03-30/
LOCATION:Southwest YMCA
CATEGORIES:Healthy living
END:VEVENT
BEGIN:VEVENT
DTSTART;TZID=America/Chicago:20260330T080000
DTEND;TZID=America/Chicago:20260330T090000
DTSTAMP:20260421T050835
CREATED:20251205T230526Z
LAST-MODIFIED:20251205T230526Z
UID:10501338-1774857600-1774861200@www.gwcymca.org
SUMMARY:Healthy Living Purple
DESCRIPTION:Helps adults at high risk of developing Type 2 diabetes adopt and maintain a healthy lifestyle. The program meets for 26 sessions over the course of a year. Goals include reducing body weight by 7% and increasing physical activity.
URL:https://www.gwcymca.org/program/healthy-living-purple-2/2026-03-30/
LOCATION:Southwest YMCA
CATEGORIES:Healthy living
END:VEVENT
BEGIN:VEVENT
DTSTART;TZID=America/Chicago:20260330T080000
DTEND;TZID=America/Chicago:20260330T090000
DTSTAMP:20260421T050835
CREATED:20251205T230526Z
LAST-MODIFIED:20251205T230526Z
UID:10501296-1774857600-1774861200@www.gwcymca.org
SUMMARY:Healthy Living Purple
DESCRIPTION:Helps adults at high risk of developing Type 2 diabetes adopt and maintain a healthy lifestyle. The program meets for 26 sessions over the course of a year. Goals include reducing body weight by 7% and increasing physical activity.
URL:https://www.gwcymca.org/program/healthy-living-purple-2/2026-03-30/
LOCATION:Southwest YMCA
CATEGORIES:Healthy living
END:VEVENT
BEGIN:VEVENT
DTSTART;TZID=America/Chicago:20260330T080000
DTEND;TZID=America/Chicago:20260330T090000
DTSTAMP:20260421T050835
CREATED:20251205T230526Z
LAST-MODIFIED:20251205T230526Z
UID:10501253-1774857600-1774861200@www.gwcymca.org
SUMMARY:Healthy Living Purple
DESCRIPTION:Helps adults at high risk of developing Type 2 diabetes adopt and maintain a healthy lifestyle. The program meets for 26 sessions over the course of a year. Goals include reducing body weight by 7% and increasing physical activity.
URL:https://www.gwcymca.org/program/healthy-living-purple-2/2026-03-30/
LOCATION:Southwest YMCA
CATEGORIES:Healthy living
END:VEVENT
BEGIN:VEVENT
DTSTART;TZID=America/Chicago:20260330T080000
DTEND;TZID=America/Chicago:20260330T090000
DTSTAMP:20260421T050835
CREATED:20251205T230526Z
LAST-MODIFIED:20251205T230526Z
UID:10501209-1774857600-1774861200@www.gwcymca.org
SUMMARY:Healthy Living Purple
DESCRIPTION:Helps adults at high risk of developing Type 2 diabetes adopt and maintain a healthy lifestyle. The program meets for 26 sessions over the course of a year. Goals include reducing body weight by 7% and increasing physical activity.
URL:https://www.gwcymca.org/program/healthy-living-purple-2/2026-03-30/
LOCATION:Southwest YMCA
CATEGORIES:Healthy living
END:VEVENT
BEGIN:VEVENT
DTSTART;TZID=America/Chicago:20260330T080000
DTEND;TZID=America/Chicago:20260330T090000
DTSTAMP:20260421T050835
CREATED:20251205T230526Z
LAST-MODIFIED:20251205T230526Z
UID:10501164-1774857600-1774861200@www.gwcymca.org
SUMMARY:Healthy Living Purple
DESCRIPTION:Helps adults at high risk of developing Type 2 diabetes adopt and maintain a healthy lifestyle. The program meets for 26 sessions over the course of a year. Goals include reducing body weight by 7% and increasing physical activity.
URL:https://www.gwcymca.org/program/healthy-living-purple-2/2026-03-30/
LOCATION:Southwest YMCA
CATEGORIES:Healthy living
END:VEVENT
BEGIN:VEVENT
DTSTART;TZID=America/Chicago:20260330T080000
DTEND;TZID=America/Chicago:20260330T090000
DTSTAMP:20260421T050835
CREATED:20251205T230526Z
LAST-MODIFIED:20251205T230526Z
UID:10501118-1774857600-1774861200@www.gwcymca.org
SUMMARY:Healthy Living Purple
DESCRIPTION:Helps adults at high risk of developing Type 2 diabetes adopt and maintain a healthy lifestyle. The program meets for 26 sessions over the course of a year. Goals include reducing body weight by 7% and increasing physical activity.
URL:https://www.gwcymca.org/program/healthy-living-purple-2/2026-03-30/
LOCATION:Southwest YMCA
CATEGORIES:Healthy living
END:VEVENT
BEGIN:VEVENT
DTSTART;TZID=America/Chicago:20260330T183000
DTEND;TZID=America/Chicago:20260330T193000
DTSTAMP:20260421T050835
CREATED:20251205T230524Z
LAST-MODIFIED:20251208T233528Z
UID:10500416-1774895400-1774899000@www.gwcymca.org
SUMMARY:Healthy Living Purple
DESCRIPTION:Helps adults at high risk of developing Type 2 diabetes adopt and maintain a healthy lifestyle. The program meets for 26 sessions over the course of a year. Goals include reducing body weight by 7% and increasing physical activity.
URL:https://www.gwcymca.org/program/healthy-living-purple/2026-03-30/
LOCATION:West Suburban YMCA
CATEGORIES:Healthy living
END:VEVENT
BEGIN:VEVENT
DTSTART;TZID=America/Chicago:20260330T183000
DTEND;TZID=America/Chicago:20260330T193000
DTSTAMP:20260421T050835
CREATED:20251205T230524Z
LAST-MODIFIED:20251205T230524Z
UID:10502336-1774895400-1774899000@www.gwcymca.org
SUMMARY:Healthy Living Purple
DESCRIPTION:Helps adults at high risk of developing Type 2 diabetes adopt and maintain a healthy lifestyle. The program meets for 26 sessions over the course of a year. Goals include reducing body weight by 7% and increasing physical activity.
URL:https://www.gwcymca.org/program/healthy-living-purple/2026-03-30/
LOCATION:West Suburban YMCA
CATEGORIES:Healthy living
END:VEVENT
BEGIN:VEVENT
DTSTART;TZID=America/Chicago:20260330T183000
DTEND;TZID=America/Chicago:20260330T193000
DTSTAMP:20260421T050835
CREATED:20251205T230524Z
LAST-MODIFIED:20251205T230524Z
UID:10502382-1774895400-1774899000@www.gwcymca.org
SUMMARY:Healthy Living Purple
DESCRIPTION:Helps adults at high risk of developing Type 2 diabetes adopt and maintain a healthy lifestyle. The program meets for 26 sessions over the course of a year. Goals include reducing body weight by 7% and increasing physical activity.
URL:https://www.gwcymca.org/program/healthy-living-purple/2026-03-30/
LOCATION:West Suburban YMCA
CATEGORIES:Healthy living
END:VEVENT
BEGIN:VEVENT
DTSTART;TZID=America/Chicago:20260330T183000
DTEND;TZID=America/Chicago:20260330T193000
DTSTAMP:20260421T050835
CREATED:20251205T230524Z
LAST-MODIFIED:20251205T230524Z
UID:10502427-1774895400-1774899000@www.gwcymca.org
SUMMARY:Healthy Living Purple
DESCRIPTION:Helps adults at high risk of developing Type 2 diabetes adopt and maintain a healthy lifestyle. The program meets for 26 sessions over the course of a year. Goals include reducing body weight by 7% and increasing physical activity.
URL:https://www.gwcymca.org/program/healthy-living-purple/2026-03-30/
LOCATION:West Suburban YMCA
CATEGORIES:Healthy living
END:VEVENT
BEGIN:VEVENT
DTSTART;TZID=America/Chicago:20260330T183000
DTEND;TZID=America/Chicago:20260330T193000
DTSTAMP:20260421T050835
CREATED:20251205T230524Z
LAST-MODIFIED:20251205T230524Z
UID:10502471-1774895400-1774899000@www.gwcymca.org
SUMMARY:Healthy Living Purple
DESCRIPTION:Helps adults at high risk of developing Type 2 diabetes adopt and maintain a healthy lifestyle. The program meets for 26 sessions over the course of a year. Goals include reducing body weight by 7% and increasing physical activity.
URL:https://www.gwcymca.org/program/healthy-living-purple/2026-03-30/
LOCATION:West Suburban YMCA
CATEGORIES:Healthy living
END:VEVENT
BEGIN:VEVENT
DTSTART;TZID=America/Chicago:20260330T183000
DTEND;TZID=America/Chicago:20260330T193000
DTSTAMP:20260421T050835
CREATED:20251205T230524Z
LAST-MODIFIED:20251205T230524Z
UID:10502514-1774895400-1774899000@www.gwcymca.org
SUMMARY:Healthy Living Purple
DESCRIPTION:Helps adults at high risk of developing Type 2 diabetes adopt and maintain a healthy lifestyle. The program meets for 26 sessions over the course of a year. Goals include reducing body weight by 7% and increasing physical activity.
URL:https://www.gwcymca.org/program/healthy-living-purple/2026-03-30/
LOCATION:West Suburban YMCA
CATEGORIES:Healthy living
END:VEVENT
BEGIN:VEVENT
DTSTART;TZID=America/Chicago:20260330T183000
DTEND;TZID=America/Chicago:20260330T193000
DTSTAMP:20260421T050836
CREATED:20251205T230524Z
LAST-MODIFIED:20251205T230524Z
UID:10502556-1774895400-1774899000@www.gwcymca.org
SUMMARY:Healthy Living Purple
DESCRIPTION:Helps adults at high risk of developing Type 2 diabetes adopt and maintain a healthy lifestyle. The program meets for 26 sessions over the course of a year. Goals include reducing body weight by 7% and increasing physical activity.
URL:https://www.gwcymca.org/program/healthy-living-purple/2026-03-30/
LOCATION:West Suburban YMCA
CATEGORIES:Healthy living
END:VEVENT
BEGIN:VEVENT
DTSTART;TZID=America/Chicago:20260330T183000
DTEND;TZID=America/Chicago:20260330T193000
DTSTAMP:20260421T050836
CREATED:20251205T230524Z
LAST-MODIFIED:20251205T230524Z
UID:10502597-1774895400-1774899000@www.gwcymca.org
SUMMARY:Healthy Living Purple
DESCRIPTION:Helps adults at high risk of developing Type 2 diabetes adopt and maintain a healthy lifestyle. The program meets for 26 sessions over the course of a year. Goals include reducing body weight by 7% and increasing physical activity.
URL:https://www.gwcymca.org/program/healthy-living-purple/2026-03-30/
LOCATION:West Suburban YMCA
CATEGORIES:Healthy living
END:VEVENT
BEGIN:VEVENT
DTSTART;TZID=America/Chicago:20260330T183000
DTEND;TZID=America/Chicago:20260330T193000
DTSTAMP:20260421T050836
CREATED:20251205T230524Z
LAST-MODIFIED:20251205T230524Z
UID:10502637-1774895400-1774899000@www.gwcymca.org
SUMMARY:Healthy Living Purple
DESCRIPTION:Helps adults at high risk of developing Type 2 diabetes adopt and maintain a healthy lifestyle. The program meets for 26 sessions over the course of a year. Goals include reducing body weight by 7% and increasing physical activity.
URL:https://www.gwcymca.org/program/healthy-living-purple/2026-03-30/
LOCATION:West Suburban YMCA
CATEGORIES:Healthy living
END:VEVENT
BEGIN:VEVENT
DTSTART;TZID=America/Chicago:20260330T183000
DTEND;TZID=America/Chicago:20260330T193000
DTSTAMP:20260421T050836
CREATED:20251205T230524Z
LAST-MODIFIED:20251205T230524Z
UID:10502676-1774895400-1774899000@www.gwcymca.org
SUMMARY:Healthy Living Purple
DESCRIPTION:Helps adults at high risk of developing Type 2 diabetes adopt and maintain a healthy lifestyle. The program meets for 26 sessions over the course of a year. Goals include reducing body weight by 7% and increasing physical activity.
URL:https://www.gwcymca.org/program/healthy-living-purple/2026-03-30/
LOCATION:West Suburban YMCA
CATEGORIES:Healthy living
END:VEVENT
BEGIN:VEVENT
DTSTART;TZID=America/Chicago:20260330T183000
DTEND;TZID=America/Chicago:20260330T193000
DTSTAMP:20260421T050836
CREATED:20251205T230524Z
LAST-MODIFIED:20251205T230524Z
UID:10502714-1774895400-1774899000@www.gwcymca.org
SUMMARY:Healthy Living Purple
DESCRIPTION:Helps adults at high risk of developing Type 2 diabetes adopt and maintain a healthy lifestyle. The program meets for 26 sessions over the course of a year. Goals include reducing body weight by 7% and increasing physical activity.
URL:https://www.gwcymca.org/program/healthy-living-purple/2026-03-30/
LOCATION:West Suburban YMCA
CATEGORIES:Healthy living
END:VEVENT
END:VCALENDAR