BEGIN:VCALENDAR
VERSION:2.0
PRODID:-//YMCA of Greater Waukesha County - ECPv6.15.20//NONSGML v1.0//EN
CALSCALE:GREGORIAN
METHOD:PUBLISH
X-ORIGINAL-URL:https://www.gwcymca.org
X-WR-CALDESC:Events for YMCA of Greater Waukesha County
REFRESH-INTERVAL;VALUE=DURATION:PT1H
X-Robots-Tag:noindex
X-PUBLISHED-TTL:PT1H
BEGIN:VTIMEZONE
TZID:America/Chicago
BEGIN:DAYLIGHT
TZOFFSETFROM:-0600
TZOFFSETTO:-0500
TZNAME:CDT
DTSTART:20250309T080000
END:DAYLIGHT
BEGIN:STANDARD
TZOFFSETFROM:-0500
TZOFFSETTO:-0600
TZNAME:CST
DTSTART:20251102T070000
END:STANDARD
BEGIN:DAYLIGHT
TZOFFSETFROM:-0600
TZOFFSETTO:-0500
TZNAME:CDT
DTSTART:20260308T080000
END:DAYLIGHT
BEGIN:STANDARD
TZOFFSETFROM:-0500
TZOFFSETTO:-0600
TZNAME:CST
DTSTART:20261101T070000
END:STANDARD
BEGIN:DAYLIGHT
TZOFFSETFROM:-0600
TZOFFSETTO:-0500
TZNAME:CDT
DTSTART:20270314T080000
END:DAYLIGHT
BEGIN:STANDARD
TZOFFSETFROM:-0500
TZOFFSETTO:-0600
TZNAME:CST
DTSTART:20271107T070000
END:STANDARD
END:VTIMEZONE
BEGIN:VEVENT
DTSTART;TZID=America/Chicago:20260415T170000
DTEND;TZID=America/Chicago:20260415T180000
DTSTAMP:20260421T100717
CREATED:20260313T005008Z
LAST-MODIFIED:20260410T043539Z
UID:10629108-1776272400-1776276000@www.gwcymca.org
SUMMARY:Something's Cooking - Balanced Breakfast
DESCRIPTION:A nutritionally balanced breakfast can give your day a healthy start\, help you focus\, keep you energized\, control your urge to snack and support digestion. Join our nutrition team as we prepare a variety of breakfast foods that supply plenty of protein\, complex carbohydrates and healthy fats to ensure a great start to your day! Includes samples of prepared dishes.
URL:https://www.gwcymca.org/program/somethings-cooking-balanced-breakfast/
LOCATION:New Berlin YMCA Wellness Center
CATEGORIES:Healthy living
END:VEVENT
END:VCALENDAR