BEGIN:VCALENDAR
VERSION:2.0
PRODID:-//YMCA of Greater Waukesha County - ECPv6.15.20//NONSGML v1.0//EN
CALSCALE:GREGORIAN
METHOD:PUBLISH
X-ORIGINAL-URL:https://www.gwcymca.org
X-WR-CALDESC:Events for YMCA of Greater Waukesha County
REFRESH-INTERVAL;VALUE=DURATION:PT1H
X-Robots-Tag:noindex
X-PUBLISHED-TTL:PT1H
BEGIN:VTIMEZONE
TZID:America/Chicago
BEGIN:DAYLIGHT
TZOFFSETFROM:-0600
TZOFFSETTO:-0500
TZNAME:CDT
DTSTART:20240310T080000
END:DAYLIGHT
BEGIN:STANDARD
TZOFFSETFROM:-0500
TZOFFSETTO:-0600
TZNAME:CST
DTSTART:20241103T070000
END:STANDARD
BEGIN:DAYLIGHT
TZOFFSETFROM:-0600
TZOFFSETTO:-0500
TZNAME:CDT
DTSTART:20250309T080000
END:DAYLIGHT
BEGIN:STANDARD
TZOFFSETFROM:-0500
TZOFFSETTO:-0600
TZNAME:CST
DTSTART:20251102T070000
END:STANDARD
BEGIN:DAYLIGHT
TZOFFSETFROM:-0600
TZOFFSETTO:-0500
TZNAME:CDT
DTSTART:20260308T080000
END:DAYLIGHT
BEGIN:STANDARD
TZOFFSETFROM:-0500
TZOFFSETTO:-0600
TZNAME:CST
DTSTART:20261101T070000
END:STANDARD
END:VTIMEZONE
BEGIN:VEVENT
DTSTART;TZID=America/Chicago:20250327T100000
DTEND;TZID=America/Chicago:20250327T113000
DTSTAMP:20260421T113416
CREATED:20260226T152112Z
LAST-MODIFIED:20260226T152112Z
UID:10604401-1743069600-1743075000@www.gwcymca.org
SUMMARY:4K Gym Time
DESCRIPTION:
URL:https://www.gwcymca.org/program/4k-gym-time-124/
LOCATION:Waukesha YMCA
END:VEVENT
BEGIN:VEVENT
DTSTART;TZID=America/Chicago:20250403T100000
DTEND;TZID=America/Chicago:20250403T113000
DTSTAMP:20260421T113416
CREATED:20260226T152113Z
LAST-MODIFIED:20260226T152113Z
UID:10604402-1743674400-1743679800@www.gwcymca.org
SUMMARY:4K Gym Time
DESCRIPTION:
URL:https://www.gwcymca.org/program/4k-gym-time-125/
LOCATION:Waukesha YMCA
END:VEVENT
BEGIN:VEVENT
DTSTART;TZID=America/Chicago:20250410T100000
DTEND;TZID=America/Chicago:20250410T113000
DTSTAMP:20260421T113416
CREATED:20260226T152115Z
LAST-MODIFIED:20260226T152115Z
UID:10604403-1744279200-1744284600@www.gwcymca.org
SUMMARY:4K Gym Time
DESCRIPTION:
URL:https://www.gwcymca.org/program/4k-gym-time-126/
LOCATION:Waukesha YMCA
END:VEVENT
BEGIN:VEVENT
DTSTART;TZID=America/Chicago:20250417T100000
DTEND;TZID=America/Chicago:20250417T113000
DTSTAMP:20260421T113417
CREATED:20260226T152116Z
LAST-MODIFIED:20260226T152116Z
UID:10604404-1744884000-1744889400@www.gwcymca.org
SUMMARY:4K Gym Time
DESCRIPTION:
URL:https://www.gwcymca.org/program/4k-gym-time-127/
LOCATION:Waukesha YMCA
END:VEVENT
BEGIN:VEVENT
DTSTART;TZID=America/Chicago:20250424T100000
DTEND;TZID=America/Chicago:20250424T113000
DTSTAMP:20260421T113417
CREATED:20260226T152118Z
LAST-MODIFIED:20260226T152118Z
UID:10604405-1745488800-1745494200@www.gwcymca.org
SUMMARY:4K Gym Time
DESCRIPTION:
URL:https://www.gwcymca.org/program/4k-gym-time-128/
LOCATION:Waukesha YMCA
END:VEVENT
BEGIN:VEVENT
DTSTART;TZID=America/Chicago:20250813T180000
DTEND;TZID=America/Chicago:20250813T210000
DTSTAMP:20260421T113417
CREATED:20251205T225023Z
LAST-MODIFIED:20260420T015033Z
UID:10500035-1755108000-1755118800@www.gwcymca.org
SUMMARY:Circle of Impact Sip & Support Fundraiser
DESCRIPTION:Join us for Circle of Impact Sip & Support\, a heartfelt fundraising event dedicated to raising critical funds for YouthStrong—a free\, strength-based program supporting childhood cancer survivors ages 6 months to 18. This event will spark meaningful connections and showcase the community’s power to support young survivors as they reclaim their strength\, confidence\, and joy after cancer treatment. Be part of the impact and help ensure every child has the opportunity to thrive beyond cancer.  \nEvent takes place at Legend at Bristlecone | 1500 E Arlene Dr\, Hartland\, WI 53029
URL:https://www.gwcymca.org/program/circle-of-impact-sip-support-fundraiser/2025-08-13/
LOCATION:Corporate Office
CATEGORIES:Special Events
END:VEVENT
BEGIN:VEVENT
DTSTART;TZID=America/Chicago:20250902T162500
DTEND;TZID=America/Chicago:20250902T165500
DTSTAMP:20260421T113418
CREATED:20250705T090513Z
LAST-MODIFIED:20251023T180528Z
UID:10485608-1756830300-1756832100@www.gwcymca.org
SUMMARY:Preschool Swim Stage 1 (3-5)
DESCRIPTION:“Water Acclimation: Children entering this level should be comfortable working with an instructor without a parent in the water.  Students develop comfort with underwater exploration and learn to safely exit in the event of falling into a body of water.\nAges 3-5 years.”
URL:https://www.gwcymca.org/program/preschool-swim-stage-1-3-5-124-2025-09-23/
LOCATION:Mukwonago YMCA
CATEGORIES:Aquatics
GEO:42.8536361;-88.3102259
END:VEVENT
BEGIN:VEVENT
DTSTART;TZID=America/Chicago:20250902T164500
DTEND;TZID=America/Chicago:20250902T173000
DTSTAMP:20260421T113418
CREATED:20250710T190642Z
LAST-MODIFIED:20251024T035015Z
UID:10486406-1756831500-1756834200@www.gwcymca.org
SUMMARY:Youth Athletic Performance Class
DESCRIPTION:This class is designed for our youth members\, aged 8-12 years old\, to help increase the major components of athletic performance.  Areas of focus will include speed\, agility\, power\, explosiveness\, and cardiovascular conditioning.  This class is high-output and high-impact with dozens of drills provided to emphasize the athletic qualities listed above.  Youth Athletic Performance will be basic enough for any youth member that falls in the 8-12 age range to participate in but will still have advanced movements to ensure they are challenging themselves and improving their athletic capabilities.  Whether they’re looking to get ready for their upcoming sports season or looking for a fun evening activity to participate in\, Youth Athletic Performance will be a great option.  Fun games and competitions should be incorporated to keep kids engaged and looking forward to coming to class.
URL:https://www.gwcymca.org/program/youth-athletic-performance-class-2025-09-23/
LOCATION:Mukwonago YMCA
CATEGORIES:Sports
GEO:42.8536361;-88.3102259
END:VEVENT
BEGIN:VEVENT
DTSTART;TZID=America/Chicago:20250902T170000
DTEND;TZID=America/Chicago:20250902T173000
DTSTAMP:20260421T113418
CREATED:20250705T090436Z
LAST-MODIFIED:20251023T175036Z
UID:10485274-1756832400-1756834200@www.gwcymca.org
SUMMARY:Preschool Swim Stage 2 (3-5)
DESCRIPTION:“Water Movement: Children entering this level should be able to go underwater voluntarily.  Students focus on body position and control\, directional change\, and forward movement in the water while continuing to practice how to safely exit if they would fall into a body of water.\nAges 3-5 years.”
URL:https://www.gwcymca.org/program/preschool-swim-stage-2-3-5-133-2025-09-23/
LOCATION:Mukwonago YMCA
CATEGORIES:Aquatics
GEO:42.8536361;-88.3102259
END:VEVENT
BEGIN:VEVENT
DTSTART;TZID=America/Chicago:20250902T170000
DTEND;TZID=America/Chicago:20250902T174500
DTSTAMP:20260421T113419
CREATED:20250806T155955Z
LAST-MODIFIED:20251024T033541Z
UID:10486360-1756832400-1756835100@www.gwcymca.org
SUMMARY:Advanced Teen/Adult Ballet & Jazz (11+)
DESCRIPTION:Get a body and mind work out as you explore the fundamental steps of Ballet and Jazz\, combining movement and rhythm to explore different styles and techniques of all the basics.
URL:https://www.gwcymca.org/program/advanced-teen-adult-ballet-jazz-11-2025-09-09/
LOCATION:Waukesha YMCA
CATEGORIES:Dance
END:VEVENT
BEGIN:VEVENT
DTSTART;TZID=America/Chicago:20250902T170500
DTEND;TZID=America/Chicago:20250902T173500
DTSTAMP:20260421T113419
CREATED:20250705T084202Z
LAST-MODIFIED:20251024T063510Z
UID:10487321-1756832700-1756834500@www.gwcymca.org
SUMMARY:Youth Adaptive Swim Lessons (6-12)
DESCRIPTION:This class is designed for children with special needs.  Develop individual coordination\, physical fitness\, basic swimming skills\, and safety.  Must be able to function in a small group setting.  Staff to child ratio 1:3.
URL:https://www.gwcymca.org/program/youth-adaptive-swim-lessons-6-12-4-2025-09-23/
LOCATION:Waukesha YMCA
CATEGORIES:Aquatics
END:VEVENT
BEGIN:VEVENT
DTSTART;TZID=America/Chicago:20250902T171500
DTEND;TZID=America/Chicago:20250902T174500
DTSTAMP:20260421T113419
CREATED:20250705T084159Z
LAST-MODIFIED:20251024T062045Z
UID:10487265-1756833300-1756835100@www.gwcymca.org
SUMMARY:Sports Sampler W/ Parent (2-3)
DESCRIPTION:Have fun introducing your child to a variety of sports including t-ball\, soccer\, and basketball.
URL:https://www.gwcymca.org/program/sports-sampler-w-parent-2-3-8-2025-09-23/
LOCATION:Waukesha YMCA
CATEGORIES:Sports
END:VEVENT
BEGIN:VEVENT
DTSTART;TZID=America/Chicago:20250902T173500
DTEND;TZID=America/Chicago:20250902T180500
DTSTAMP:20260421T113419
CREATED:20250705T090512Z
LAST-MODIFIED:20251023T180526Z
UID:10485605-1756834500-1756836300@www.gwcymca.org
SUMMARY:Preschool Swim Stage 1 (3-5)
DESCRIPTION:“Water Acclimation: Children entering this level should be comfortable working with an instructor without a parent in the water.  Students develop comfort with underwater exploration and learn to safely exit in the event of falling into a body of water.\nAges 3-5 years.”
URL:https://www.gwcymca.org/program/preschool-swim-stage-1-3-5-123-2025-09-23/
LOCATION:Mukwonago YMCA
CATEGORIES:Aquatics
GEO:42.8536361;-88.3102259
END:VEVENT
BEGIN:VEVENT
DTSTART;TZID=America/Chicago:20250902T175500
DTEND;TZID=America/Chicago:20250902T184000
DTSTAMP:20260421T113420
CREATED:20250806T155954Z
LAST-MODIFIED:20251024T033536Z
UID:10486353-1756835700-1756838400@www.gwcymca.org
SUMMARY:Advanced Tap (11+)
DESCRIPTION:Prior teacher authorization. Fast paced\, high intensity class with complex curriculum exploring tap technique\, rhythm and combinations. (Additional class is offered on Friday. Registration for both classes is encouraged but not required.)
URL:https://www.gwcymca.org/program/advanced-tap-11-2-2025-09-09/
LOCATION:Waukesha YMCA
CATEGORIES:Dance
END:VEVENT
BEGIN:VEVENT
DTSTART;TZID=America/Chicago:20250902T180000
DTEND;TZID=America/Chicago:20250902T184500
DTSTAMP:20260421T113420
CREATED:20250705T084155Z
LAST-MODIFIED:20251024T062037Z
UID:10487253-1756836000-1756838700@www.gwcymca.org
SUMMARY:Basketball Skills (6-7)
DESCRIPTION:Practices will focus on further developing the foundational basketball skills learned in toddler and preschool classes. Individual and team skills will be worked on throughout the class.
URL:https://www.gwcymca.org/program/basketball-skills-6-7-2025-09-23/
LOCATION:Waukesha YMCA
CATEGORIES:Sports
END:VEVENT
BEGIN:VEVENT
DTSTART;TZID=America/Chicago:20250902T180000
DTEND;TZID=America/Chicago:20250902T184500
DTSTAMP:20260421T113420
CREATED:20250705T084157Z
LAST-MODIFIED:20251024T062041Z
UID:10487259-1756836000-1756838700@www.gwcymca.org
SUMMARY:Basketball Skills (4-5)
DESCRIPTION:Introduction to the game of basketball using age appropriate skills and drills. Individual and team skills will be worked on throughout the class.
URL:https://www.gwcymca.org/program/basketball-skills-4-5-2025-09-23/
LOCATION:Waukesha YMCA
CATEGORIES:Sports
END:VEVENT
BEGIN:VEVENT
DTSTART;TZID=America/Chicago:20250902T181000
DTEND;TZID=America/Chicago:20250902T184000
DTSTAMP:20260421T113420
CREATED:20250705T090428Z
LAST-MODIFIED:20251023T175034Z
UID:10485271-1756836600-1756838400@www.gwcymca.org
SUMMARY:Preschool Swim Stage 2 (3-5)
DESCRIPTION:“Water Movement: Children entering this level should be able to go underwater voluntarily.  Students focus on body position and control\, directional change\, and forward movement in the water while continuing to practice how to safely exit if they would fall into a body of water.\nAges 3-5 years.”
URL:https://www.gwcymca.org/program/preschool-swim-stage-2-3-5-132-2025-09-23/
LOCATION:Mukwonago YMCA
CATEGORIES:Aquatics
GEO:42.8536361;-88.3102259
END:VEVENT
BEGIN:VEVENT
DTSTART;TZID=America/Chicago:20250902T185000
DTEND;TZID=America/Chicago:20250902T193500
DTSTAMP:20260421T113420
CREATED:20250806T155953Z
LAST-MODIFIED:20251024T033532Z
UID:10486346-1756839000-1756841700@www.gwcymca.org
SUMMARY:Pre-Pointe and Pointe (11+)
DESCRIPTION:INSTRUCTOR APPROVAL NEEDED. Class focuses on building strength in dancer’s feet\, ankles and core for a solid foundation of balance and control for pointe dancing. Pre-pointe students work alongside current pointe students\, refining techniques to safely execute steps and combinations to support overall body stamina. Soft ballet shoes are required for every student. Pointe shoes are discussed and approved by instructor.
URL:https://www.gwcymca.org/program/pre-pointe-and-pointe-11-2025-09-09/
LOCATION:Waukesha YMCA
CATEGORIES:Dance
END:VEVENT
BEGIN:VEVENT
DTSTART;TZID=America/Chicago:20250903T102000
DTEND;TZID=America/Chicago:20250903T105000
DTSTAMP:20260421T113421
CREATED:20250705T090511Z
LAST-MODIFIED:20251023T180524Z
UID:10485602-1756894800-1756896600@www.gwcymca.org
SUMMARY:Preschool Swim Stage 1 (3-5)
DESCRIPTION:“Water Acclimation: Children entering this level should be comfortable working with an instructor without a parent in the water.  Students develop comfort with underwater exploration and learn to safely exit in the event of falling into a body of water.\nAges 3-5 years.”
URL:https://www.gwcymca.org/program/preschool-swim-stage-1-3-5-122-2025-09-24/
LOCATION:Mukwonago YMCA
CATEGORIES:Aquatics
GEO:42.8536361;-88.3102259
END:VEVENT
BEGIN:VEVENT
DTSTART;TZID=America/Chicago:20250903T103000
DTEND;TZID=America/Chicago:20250903T110000
DTSTAMP:20260421T113421
CREATED:20250705T084158Z
LAST-MODIFIED:20251024T062043Z
UID:10487262-1756895400-1756897200@www.gwcymca.org
SUMMARY:Sports Sampler W/ Parent (2-3)
DESCRIPTION:Have fun introducing your child to a variety of sports including t-ball\, soccer\, and basketball.
URL:https://www.gwcymca.org/program/sports-sampler-w-parent-2-3-7-2025-09-24/
LOCATION:Waukesha YMCA
CATEGORIES:Sports
END:VEVENT
BEGIN:VEVENT
DTSTART;TZID=America/Chicago:20250903T105500
DTEND;TZID=America/Chicago:20250903T112500
DTSTAMP:20260421T113421
CREATED:20250705T090320Z
LAST-MODIFIED:20251023T175032Z
UID:10485268-1756896900-1756898700@www.gwcymca.org
SUMMARY:Preschool Swim Stage 2 (3-5)
DESCRIPTION:“Water Movement: Children entering this level should be able to go underwater voluntarily.  Students focus on body position and control\, directional change\, and forward movement in the water while continuing to practice how to safely exit if they would fall into a body of water.\nAges 3-5 years.”
URL:https://www.gwcymca.org/program/preschool-swim-stage-2-3-5-131-2025-09-24/
LOCATION:Mukwonago YMCA
CATEGORIES:Aquatics
GEO:42.8536361;-88.3102259
END:VEVENT
BEGIN:VEVENT
DTSTART;TZID=America/Chicago:20250903T115000
DTEND;TZID=America/Chicago:20250903T122000
DTSTAMP:20260421T113421
CREATED:20250818T191743Z
LAST-MODIFIED:20251024T032103Z
UID:10486262-1756900200-1756902000@www.gwcymca.org
SUMMARY:Parent 'N' Tot Gymnastics 2 (2-3)
DESCRIPTION:Toddlers explore movement and gymnastics while using fun props and gymnastics equipment. A transition to on-my-own classes.
URL:https://www.gwcymca.org/program/parent-n-tot-gymnastics-2-2-3-2025-09-10/
LOCATION:Waukesha YMCA
CATEGORIES:Gymnastics
END:VEVENT
BEGIN:VEVENT
DTSTART;TZID=America/Chicago:20250903T162500
DTEND;TZID=America/Chicago:20250903T165500
DTSTAMP:20260421T113422
CREATED:20250705T090317Z
LAST-MODIFIED:20251023T175030Z
UID:10485265-1756916700-1756918500@www.gwcymca.org
SUMMARY:Preschool Swim Stage 2 (3-5)
DESCRIPTION:“Water Movement: Children entering this level should be able to go underwater voluntarily.  Students focus on body position and control\, directional change\, and forward movement in the water while continuing to practice how to safely exit if they would fall into a body of water.\nAges 3-5 years.”
URL:https://www.gwcymca.org/program/preschool-swim-stage-2-3-5-130-2025-09-24/
LOCATION:Mukwonago YMCA
CATEGORIES:Aquatics
GEO:42.8536361;-88.3102259
END:VEVENT
BEGIN:VEVENT
DTSTART;TZID=America/Chicago:20250903T162500
DTEND;TZID=America/Chicago:20250903T165500
DTSTAMP:20260421T113422
CREATED:20250705T090540Z
LAST-MODIFIED:20251023T182028Z
UID:10485781-1756916700-1756918500@www.gwcymca.org
SUMMARY:Parent & Child Swim Stage A (0-3)
DESCRIPTION:“Water Discovery: introduces infants and toddlers to the aquatic environment through exploration and encourages them to enjoy themselves while learning about the water.\nAges 6 months to 3 years.”
URL:https://www.gwcymca.org/program/parent-child-swim-stage-a-0-3-21-2025-09-10/
LOCATION:Mukwonago YMCA
CATEGORIES:Aquatics
GEO:42.8536361;-88.3102259
END:VEVENT
BEGIN:VEVENT
DTSTART;TZID=America/Chicago:20250903T170000
DTEND;TZID=America/Chicago:20250903T173000
DTSTAMP:20260421T113422
CREATED:20250705T090510Z
LAST-MODIFIED:20251023T180522Z
UID:10485599-1756918800-1756920600@www.gwcymca.org
SUMMARY:Preschool Swim Stage 1 (3-5)
DESCRIPTION:“Water Acclimation: Children entering this level should be comfortable working with an instructor without a parent in the water.  Students develop comfort with underwater exploration and learn to safely exit in the event of falling into a body of water.\nAges 3-5 years.”
URL:https://www.gwcymca.org/program/preschool-swim-stage-1-3-5-121-2025-09-24/
LOCATION:Mukwonago YMCA
CATEGORIES:Aquatics
GEO:42.8536361;-88.3102259
END:VEVENT
BEGIN:VEVENT
DTSTART;TZID=America/Chicago:20250903T170000
DTEND;TZID=America/Chicago:20250903T173000
DTSTAMP:20260421T113422
CREATED:20250705T090536Z
LAST-MODIFIED:20251023T182018Z
UID:10485762-1756918800-1756920600@www.gwcymca.org
SUMMARY:Parent & Child Swim Stage B (1-3)
DESCRIPTION:Water Exploration: Children entering this level should be comfortable in the water\, able to respond to verbal cues and jump on land. Parents work with their children to explore body positions\, floating\, blowing bubbles\, and fundamental safety and aquatic skills. Ages 1 to 3 years.
URL:https://www.gwcymca.org/program/parent-child-swim-stage-b-1-3-23-2025-09-24/
LOCATION:Mukwonago YMCA
CATEGORIES:Aquatics
GEO:42.8536361;-88.3102259
END:VEVENT
BEGIN:VEVENT
DTSTART;TZID=America/Chicago:20250903T172000
DTEND;TZID=America/Chicago:20250903T180500
DTSTAMP:20260421T113422
CREATED:20250818T205142Z
LAST-MODIFIED:20251024T032058Z
UID:10486255-1756920000-1756922700@www.gwcymca.org
SUMMARY:Mini Tumblers (4-5)
DESCRIPTION:Advanced skills for preschool gymnasts ages 4-5 years or Little Leapers (Intermediate) graduate.
URL:https://www.gwcymca.org/program/mini-tumblers-4-5-4-2025-09-10/
LOCATION:Waukesha YMCA
CATEGORIES:Gymnastics
END:VEVENT
BEGIN:VEVENT
DTSTART;TZID=America/Chicago:20250903T173500
DTEND;TZID=America/Chicago:20250903T180500
DTSTAMP:20260421T113423
CREATED:20250705T090315Z
LAST-MODIFIED:20251023T175028Z
UID:10485262-1756920900-1756922700@www.gwcymca.org
SUMMARY:Preschool Swim Stage 2 (3-5)
DESCRIPTION:“Water Movement: Children entering this level should be able to go underwater voluntarily.  Students focus on body position and control\, directional change\, and forward movement in the water while continuing to practice how to safely exit if they would fall into a body of water.\nAges 3-5 years.”
URL:https://www.gwcymca.org/program/preschool-swim-stage-2-3-5-129-2025-09-24/
LOCATION:Mukwonago YMCA
CATEGORIES:Aquatics
GEO:42.8536361;-88.3102259
END:VEVENT
BEGIN:VEVENT
DTSTART;TZID=America/Chicago:20250903T173500
DTEND;TZID=America/Chicago:20250903T180500
DTSTAMP:20260421T113423
CREATED:20250705T090532Z
LAST-MODIFIED:20251023T180546Z
UID:10485632-1756920900-1756922700@www.gwcymca.org
SUMMARY:Preschool Stage 1 W/ Parent (2-4)
DESCRIPTION:“Water Acclimation: For the child not quite ready to swim without the parent.  Transition between parent and instructor throughout first half of session.  Focus is on learning to listen to an instructor\, becoming comfortable in the water\, and safely exploring movement in the water.\nAges 2.5-4 years.”
URL:https://www.gwcymca.org/program/preschool-stage-1-w-parent-2-4-30-2025-09-24/
LOCATION:Mukwonago YMCA
CATEGORIES:Aquatics
GEO:42.8536361;-88.3102259
END:VEVENT
BEGIN:VEVENT
DTSTART;TZID=America/Chicago:20250903T181000
DTEND;TZID=America/Chicago:20250903T184000
DTSTAMP:20260421T113423
CREATED:20250705T090509Z
LAST-MODIFIED:20251023T180520Z
UID:10485596-1756923000-1756924800@www.gwcymca.org
SUMMARY:Preschool Swim Stage 1 (3-5)
DESCRIPTION:“Water Acclimation: Children entering this level should be comfortable working with an instructor without a parent in the water.  Students develop comfort with underwater exploration and learn to safely exit in the event of falling into a body of water.\nAges 3-5 years.”
URL:https://www.gwcymca.org/program/preschool-swim-stage-1-3-5-120-2025-09-24/
LOCATION:Mukwonago YMCA
CATEGORIES:Aquatics
GEO:42.8536361;-88.3102259
END:VEVENT
END:VCALENDAR