BEGIN:VCALENDAR
VERSION:2.0
PRODID:-//YMCA of Greater Waukesha County - ECPv6.15.20//NONSGML v1.0//EN
CALSCALE:GREGORIAN
METHOD:PUBLISH
X-ORIGINAL-URL:https://www.gwcymca.org
X-WR-CALDESC:Events for YMCA of Greater Waukesha County
REFRESH-INTERVAL;VALUE=DURATION:PT1H
X-Robots-Tag:noindex
X-PUBLISHED-TTL:PT1H
BEGIN:VTIMEZONE
TZID:America/Chicago
BEGIN:DAYLIGHT
TZOFFSETFROM:-0600
TZOFFSETTO:-0500
TZNAME:CDT
DTSTART:20250309T080000
END:DAYLIGHT
BEGIN:STANDARD
TZOFFSETFROM:-0500
TZOFFSETTO:-0600
TZNAME:CST
DTSTART:20251102T070000
END:STANDARD
BEGIN:DAYLIGHT
TZOFFSETFROM:-0600
TZOFFSETTO:-0500
TZNAME:CDT
DTSTART:20260308T080000
END:DAYLIGHT
BEGIN:STANDARD
TZOFFSETFROM:-0500
TZOFFSETTO:-0600
TZNAME:CST
DTSTART:20261101T070000
END:STANDARD
BEGIN:DAYLIGHT
TZOFFSETFROM:-0600
TZOFFSETTO:-0500
TZNAME:CDT
DTSTART:20270314T080000
END:DAYLIGHT
BEGIN:STANDARD
TZOFFSETFROM:-0500
TZOFFSETTO:-0600
TZNAME:CST
DTSTART:20271107T070000
END:STANDARD
END:VTIMEZONE
BEGIN:VEVENT
DTSTART;TZID=America/Chicago:20260302T050000
DTEND;TZID=America/Chicago:20260302T063000
DTSTAMP:20260421T071433
CREATED:20260226T143757Z
LAST-MODIFIED:20260226T143757Z
UID:10604262-1772427600-1772433000@www.gwcymca.org
SUMMARY:Open Gym
DESCRIPTION:
URL:https://www.gwcymca.org/program/open-gym-2588/
LOCATION:Waukesha YMCA
END:VEVENT
BEGIN:VEVENT
DTSTART;TZID=America/Chicago:20260302T050000
DTEND;TZID=America/Chicago:20260302T070000
DTSTAMP:20260421T071433
CREATED:20260212T172104Z
LAST-MODIFIED:20260212T172104Z
UID:10599468-1772427600-1772434800@www.gwcymca.org
SUMMARY:Family Gym
DESCRIPTION:
URL:https://www.gwcymca.org/program/family-gym-517/
LOCATION:Mukwonago YMCA
GEO:42.8536361;-88.3102259
END:VEVENT
BEGIN:VEVENT
DTSTART;TZID=America/Chicago:20260302T050000
DTEND;TZID=America/Chicago:20260302T070000
DTSTAMP:20260421T071433
CREATED:20260212T183805Z
LAST-MODIFIED:20260212T183805Z
UID:10599725-1772427600-1772434800@www.gwcymca.org
SUMMARY:Open Gym
DESCRIPTION:
URL:https://www.gwcymca.org/program/open-gym-1978/
LOCATION:Mukwonago YMCA
GEO:42.8536361;-88.3102259
END:VEVENT
BEGIN:VEVENT
DTSTART;TZID=America/Chicago:20260302T050000
DTEND;TZID=America/Chicago:20260302T074500
DTSTAMP:20260421T071433
CREATED:20260225T155421Z
LAST-MODIFIED:20260225T155421Z
UID:10603586-1772427600-1772437500@www.gwcymca.org
SUMMARY:Open Gym
DESCRIPTION:
URL:https://www.gwcymca.org/program/open-gym-2436/
LOCATION:Southwest YMCA
END:VEVENT
BEGIN:VEVENT
DTSTART;TZID=America/Chicago:20260302T050000
DTEND;TZID=America/Chicago:20260302T074500
DTSTAMP:20260421T071433
CREATED:20260225T161537Z
LAST-MODIFIED:20260225T161537Z
UID:10603696-1772427600-1772437500@www.gwcymca.org
SUMMARY:Open Gym
DESCRIPTION:
URL:https://www.gwcymca.org/program/open-gym-2466/
LOCATION:Southwest YMCA
END:VEVENT
BEGIN:VEVENT
DTSTART;TZID=America/Chicago:20260302T050000
DTEND;TZID=America/Chicago:20260302T083000
DTSTAMP:20260421T071433
CREATED:20260109T184933Z
LAST-MODIFIED:20260109T184933Z
UID:10573084-1772427600-1772440200@www.gwcymca.org
SUMMARY:Adult Basketball
DESCRIPTION:
URL:https://www.gwcymca.org/program/adult-basketball-164/
LOCATION:Tri County YMCA
END:VEVENT
BEGIN:VEVENT
DTSTART;TZID=America/Chicago:20260302T050000
DTEND;TZID=America/Chicago:20260302T083000
DTSTAMP:20260421T071434
CREATED:20260219T145157Z
LAST-MODIFIED:20260219T145157Z
UID:10601228-1772427600-1772440200@www.gwcymca.org
SUMMARY:Adult Basketball
DESCRIPTION:
URL:https://www.gwcymca.org/program/adult-basketball-165/
LOCATION:Tri County YMCA
END:VEVENT
BEGIN:VEVENT
DTSTART;TZID=America/Chicago:20260302T050000
DTEND;TZID=America/Chicago:20260302T100000
DTSTAMP:20260421T071434
CREATED:20260226T183919Z
LAST-MODIFIED:20260226T183919Z
UID:10604702-1772427600-1772445600@www.gwcymca.org
SUMMARY:Pickleball - 3 Courts
DESCRIPTION:
URL:https://www.gwcymca.org/program/pickleball-3-courts-41/
LOCATION:Waukesha YMCA
END:VEVENT
BEGIN:VEVENT
DTSTART;TZID=America/Chicago:20260302T050000
DTEND;TZID=America/Chicago:20260302T110000
DTSTAMP:20260421T071434
CREATED:20260219T190408Z
LAST-MODIFIED:20260219T190408Z
UID:10601700-1772427600-1772449200@www.gwcymca.org
SUMMARY:Open Gym
DESCRIPTION:
URL:https://www.gwcymca.org/program/open-gym-2355/
LOCATION:Southwest YMCA
END:VEVENT
BEGIN:VEVENT
DTSTART;TZID=America/Chicago:20260302T051500
DTEND;TZID=America/Chicago:20260302T070000
DTSTAMP:20260421T071434
CREATED:20260223T201922Z
LAST-MODIFIED:20260223T201922Z
UID:10602986-1772428500-1772434800@www.gwcymca.org
SUMMARY:Open Exercise 5 Lap Lanes
DESCRIPTION:
URL:https://www.gwcymca.org/program/open-exercise-5-lap-lanes-82/
LOCATION:Tri County YMCA
END:VEVENT
BEGIN:VEVENT
DTSTART;TZID=America/Chicago:20260302T051500
DTEND;TZID=America/Chicago:20260302T071500
DTSTAMP:20260421T071434
CREATED:20260223T171847Z
LAST-MODIFIED:20260223T171847Z
UID:10602428-1772428500-1772435700@www.gwcymca.org
SUMMARY:Open Swim\, 4 Lap Lanes
DESCRIPTION:
URL:https://www.gwcymca.org/program/open-swim-4-lap-lanes-551/
LOCATION:Southwest YMCA
END:VEVENT
BEGIN:VEVENT
DTSTART;TZID=America/Chicago:20260302T051500
DTEND;TZID=America/Chicago:20260302T074500
DTSTAMP:20260421T071434
CREATED:20260227T025352Z
LAST-MODIFIED:20260227T025352Z
UID:10606020-1772428500-1772437500@www.gwcymca.org
SUMMARY:5 Lap Lanes | 1 Lane for Open Swim/Exercise
DESCRIPTION:
URL:https://www.gwcymca.org/program/5-lap-lanes-1-lane-for-open-swim-exercise-91/
LOCATION:West Suburban YMCA
END:VEVENT
BEGIN:VEVENT
DTSTART;TZID=America/Chicago:20260302T051500
DTEND;TZID=America/Chicago:20260302T084500
DTSTAMP:20260421T071435
CREATED:20260226T195219Z
LAST-MODIFIED:20260226T195219Z
UID:10604974-1772428500-1772441100@www.gwcymca.org
SUMMARY:Lap Swim/Open Exercise
DESCRIPTION:
URL:https://www.gwcymca.org/program/lap-swim-open-exercise-105/
LOCATION:Waukesha YMCA
END:VEVENT
BEGIN:VEVENT
DTSTART;TZID=America/Chicago:20260302T051500
DTEND;TZID=America/Chicago:20260302T092000
DTSTAMP:20260421T071435
CREATED:20260212T205443Z
LAST-MODIFIED:20260212T205443Z
UID:10600145-1772428500-1772443200@www.gwcymca.org
SUMMARY:Open Exercise | 4 Lap Lanes
DESCRIPTION:
URL:https://www.gwcymca.org/program/open-exercise-4-lap-lanes-478/
LOCATION:Mukwonago YMCA
GEO:42.8536361;-88.3102259
END:VEVENT
BEGIN:VEVENT
DTSTART;TZID=America/Chicago:20260302T060000
DTEND;TZID=America/Chicago:20260302T090000
DTSTAMP:20260421T071435
CREATED:20260223T185539Z
LAST-MODIFIED:20260302T150736Z
UID:10602740-1772431200-1772442000@www.gwcymca.org
SUMMARY:Open Swim
DESCRIPTION:
URL:https://www.gwcymca.org/program/open-swim-1354/
LOCATION:Southwest YMCA
END:VEVENT
BEGIN:VEVENT
DTSTART;TZID=America/Chicago:20260302T060000
DTEND;TZID=America/Chicago:20260302T100000
DTSTAMP:20260421T071435
CREATED:20260227T000331Z
LAST-MODIFIED:20260227T000331Z
UID:10605479-1772431200-1772445600@www.gwcymca.org
SUMMARY:Adult (18+) Pickup
DESCRIPTION:
URL:https://www.gwcymca.org/program/adult-18-pickup-187/
LOCATION:West Suburban YMCA
END:VEVENT
BEGIN:VEVENT
DTSTART;TZID=America/Chicago:20260302T060000
DTEND;TZID=America/Chicago:20260302T100000
DTSTAMP:20260421T071435
CREATED:20260227T013221Z
LAST-MODIFIED:20260227T013221Z
UID:10605732-1772431200-1772445600@www.gwcymca.org
SUMMARY:Adult (18+) Pickup
DESCRIPTION:
URL:https://www.gwcymca.org/program/adult-18-pickup-235/
LOCATION:West Suburban YMCA
END:VEVENT
BEGIN:VEVENT
DTSTART;TZID=America/Chicago:20260302T060000
DTEND;TZID=America/Chicago:20260307T210000
DTSTAMP:20260421T071436
CREATED:20260220T002023Z
LAST-MODIFIED:20260306T100518Z
UID:10601946-1772431200-1772917200@www.gwcymca.org
SUMMARY:Swim-a-thon
DESCRIPTION:Our lifeguards and swim instructors are diving in together to swim 15\,000 yards all to support programs that keep our community safe\, active\, and confident in the water. Every lap represents the care they show our members every day. Cheer them on\, spread the word\, or consider supporting their swim-a-thon to make an even bigger splash.
URL:https://www.gwcymca.org/program/swim-a-thon/
LOCATION:West Suburban YMCA
CATEGORIES:Special Events
END:VEVENT
BEGIN:VEVENT
DTSTART;TZID=America/Chicago:20260302T061500
DTEND;TZID=America/Chicago:20260302T073000
DTSTAMP:20260421T071436
CREATED:20260216T183452Z
LAST-MODIFIED:20260216T183452Z
UID:10600473-1772432100-1772436600@www.gwcymca.org
SUMMARY:Open Swim
DESCRIPTION:
URL:https://www.gwcymca.org/program/open-swim-1106/
LOCATION:Mukwonago YMCA
GEO:42.8536361;-88.3102259
END:VEVENT
BEGIN:VEVENT
DTSTART;TZID=America/Chicago:20260302T063000
DTEND;TZID=America/Chicago:20260302T071500
DTSTAMP:20260421T071436
CREATED:20260226T145021Z
LAST-MODIFIED:20260226T145021Z
UID:10604302-1772433000-1772435700@www.gwcymca.org
SUMMARY:Y's Way to Fitness
DESCRIPTION:
URL:https://www.gwcymca.org/program/ys-way-to-fitness-70/
LOCATION:Waukesha YMCA
END:VEVENT
BEGIN:VEVENT
DTSTART;TZID=America/Chicago:20260302T070000
DTEND;TZID=America/Chicago:20260302T080000
DTSTAMP:20260421T071436
CREATED:20260227T143101Z
LAST-MODIFIED:20260227T143101Z
UID:10606756-1772434800-1772438400@www.gwcymca.org
SUMMARY:Open Swim/Exercise
DESCRIPTION:
URL:https://www.gwcymca.org/program/open-swim-exercise-294/
LOCATION:West Suburban YMCA
END:VEVENT
BEGIN:VEVENT
DTSTART;TZID=America/Chicago:20260302T070000
DTEND;TZID=America/Chicago:20260302T090000
DTSTAMP:20260421T071436
CREATED:20260108T222952Z
LAST-MODIFIED:20260108T222952Z
UID:10566722-1772434800-1772442000@www.gwcymca.org
SUMMARY:Open Swim 4 Lap Lanes
DESCRIPTION:
URL:https://www.gwcymca.org/program/open-swim-4-lap-lanes-549/
LOCATION:Tri County YMCA
END:VEVENT
BEGIN:VEVENT
DTSTART;TZID=America/Chicago:20260302T070000
DTEND;TZID=America/Chicago:20260302T090000
DTSTAMP:20260421T071437
CREATED:20260212T172124Z
LAST-MODIFIED:20260212T172124Z
UID:10599476-1772434800-1772442000@www.gwcymca.org
SUMMARY:Open Pickleball
DESCRIPTION:
URL:https://www.gwcymca.org/program/open-pickleball-613/
LOCATION:Mukwonago YMCA
GEO:42.8536361;-88.3102259
END:VEVENT
BEGIN:VEVENT
DTSTART;TZID=America/Chicago:20260302T070000
DTEND;TZID=America/Chicago:20260302T090000
DTSTAMP:20260421T071437
CREATED:20260212T183826Z
LAST-MODIFIED:20260212T183826Z
UID:10599733-1772434800-1772442000@www.gwcymca.org
SUMMARY:Open Pickleball
DESCRIPTION:
URL:https://www.gwcymca.org/program/open-pickleball-754/
LOCATION:Mukwonago YMCA
GEO:42.8536361;-88.3102259
END:VEVENT
BEGIN:VEVENT
DTSTART;TZID=America/Chicago:20260302T071500
DTEND;TZID=America/Chicago:20260302T083000
DTSTAMP:20260421T071437
CREATED:20260223T171904Z
LAST-MODIFIED:20260223T171904Z
UID:10602436-1772435700-1772440200@www.gwcymca.org
SUMMARY:Aqua Zumba\, 1 Lap Lane
DESCRIPTION:
URL:https://www.gwcymca.org/program/aqua-zumba-1-lap-lane-17/
LOCATION:Southwest YMCA
END:VEVENT
BEGIN:VEVENT
DTSTART;TZID=America/Chicago:20260302T071500
DTEND;TZID=America/Chicago:20260302T100000
DTSTAMP:20260421T071437
CREATED:20260226T150132Z
LAST-MODIFIED:20260226T150132Z
UID:10604326-1772435700-1772445600@www.gwcymca.org
SUMMARY:Adult Full Court
DESCRIPTION:
URL:https://www.gwcymca.org/program/adult-full-court-162/
LOCATION:Waukesha YMCA
END:VEVENT
BEGIN:VEVENT
DTSTART;TZID=America/Chicago:20260302T073000
DTEND;TZID=America/Chicago:20260302T081500
DTSTAMP:20260421T071437
CREATED:20260216T183510Z
LAST-MODIFIED:20260216T183510Z
UID:10600481-1772436600-1772439300@www.gwcymca.org
SUMMARY:Aqua Fit
DESCRIPTION:
URL:https://www.gwcymca.org/program/aqua-fit-97/
LOCATION:Mukwonago YMCA
GEO:42.8536361;-88.3102259
END:VEVENT
BEGIN:VEVENT
DTSTART;TZID=America/Chicago:20260302T074500
DTEND;TZID=America/Chicago:20260302T083000
DTSTAMP:20260421T071438
CREATED:20260225T155445Z
LAST-MODIFIED:20260225T155445Z
UID:10603594-1772437500-1772440200@www.gwcymca.org
SUMMARY:Zumba Gold
DESCRIPTION:
URL:https://www.gwcymca.org/program/zumba-gold-94/
LOCATION:Southwest YMCA
END:VEVENT
BEGIN:VEVENT
DTSTART;TZID=America/Chicago:20260302T074500
DTEND;TZID=America/Chicago:20260302T083000
DTSTAMP:20260421T071438
CREATED:20260225T161819Z
LAST-MODIFIED:20260225T161819Z
UID:10603712-1772437500-1772440200@www.gwcymca.org
SUMMARY:Zumba Gold
DESCRIPTION:
URL:https://www.gwcymca.org/program/zumba-gold-101/
LOCATION:Southwest YMCA
END:VEVENT
BEGIN:VEVENT
DTSTART;TZID=America/Chicago:20260302T074500
DTEND;TZID=America/Chicago:20260302T085000
DTSTAMP:20260421T071438
CREATED:20260227T025411Z
LAST-MODIFIED:20260227T025411Z
UID:10606028-1772437500-1772441400@www.gwcymca.org
SUMMARY:4 Lap Lanes | 2 Lanes for Open Swim/Exercise
DESCRIPTION:
URL:https://www.gwcymca.org/program/4-lap-lanes-2-lanes-for-open-swim-exercise-312/
LOCATION:West Suburban YMCA
END:VEVENT
END:VCALENDAR