BEGIN:VCALENDAR
VERSION:2.0
PRODID:-//YMCA of Greater Waukesha County - ECPv6.15.20//NONSGML v1.0//EN
CALSCALE:GREGORIAN
METHOD:PUBLISH
X-WR-CALNAME:YMCA of Greater Waukesha County
X-ORIGINAL-URL:https://www.gwcymca.org
X-WR-CALDESC:Events for YMCA of Greater Waukesha County
REFRESH-INTERVAL;VALUE=DURATION:PT1H
X-Robots-Tag:noindex
X-PUBLISHED-TTL:PT1H
BEGIN:VTIMEZONE
TZID:America/Chicago
BEGIN:DAYLIGHT
TZOFFSETFROM:-0600
TZOFFSETTO:-0500
TZNAME:CDT
DTSTART:20250309T080000
END:DAYLIGHT
BEGIN:STANDARD
TZOFFSETFROM:-0500
TZOFFSETTO:-0600
TZNAME:CST
DTSTART:20251102T070000
END:STANDARD
BEGIN:DAYLIGHT
TZOFFSETFROM:-0600
TZOFFSETTO:-0500
TZNAME:CDT
DTSTART:20260308T080000
END:DAYLIGHT
BEGIN:STANDARD
TZOFFSETFROM:-0500
TZOFFSETTO:-0600
TZNAME:CST
DTSTART:20261101T070000
END:STANDARD
BEGIN:DAYLIGHT
TZOFFSETFROM:-0600
TZOFFSETTO:-0500
TZNAME:CDT
DTSTART:20270314T080000
END:DAYLIGHT
BEGIN:STANDARD
TZOFFSETFROM:-0500
TZOFFSETTO:-0600
TZNAME:CST
DTSTART:20271107T070000
END:STANDARD
END:VTIMEZONE
BEGIN:VEVENT
DTSTART;TZID=America/Chicago:20260422T184500
DTEND;TZID=America/Chicago:20260422T191500
DTSTAMP:20260421T063122
CREATED:20260109T025018Z
LAST-MODIFIED:20260420T025049Z
UID:10567910-1776883500-1776885300@www.gwcymca.org
SUMMARY:School Age Swim Stage 4 (6-12)
DESCRIPTION:“Stroke Introduction: Children entering this level should be able to swim 15 yards on their front and back independently.  Students develop stroke technique in front and back crawl and learn the breaststroke kick and butterfly kick.  Treading is also introduced.\nAges 6-12 years. ”
URL:https://www.gwcymca.org/program/school-age-swim-stage-4-6-12-33/2026-04-22/
LOCATION:West Suburban YMCA
CATEGORIES:Aquatics
END:VEVENT
END:VCALENDAR