BEGIN:VCALENDAR
VERSION:2.0
PRODID:-//YMCA of Greater Waukesha County - ECPv6.15.20//NONSGML v1.0//EN
CALSCALE:GREGORIAN
METHOD:PUBLISH
X-WR-CALNAME:YMCA of Greater Waukesha County
X-ORIGINAL-URL:https://www.gwcymca.org
X-WR-CALDESC:Events for YMCA of Greater Waukesha County
REFRESH-INTERVAL;VALUE=DURATION:PT1H
X-Robots-Tag:noindex
X-PUBLISHED-TTL:PT1H
BEGIN:VTIMEZONE
TZID:America/Chicago
BEGIN:DAYLIGHT
TZOFFSETFROM:-0600
TZOFFSETTO:-0500
TZNAME:CDT
DTSTART:20250309T080000
END:DAYLIGHT
BEGIN:STANDARD
TZOFFSETFROM:-0500
TZOFFSETTO:-0600
TZNAME:CST
DTSTART:20251102T070000
END:STANDARD
BEGIN:DAYLIGHT
TZOFFSETFROM:-0600
TZOFFSETTO:-0500
TZNAME:CDT
DTSTART:20260308T080000
END:DAYLIGHT
BEGIN:STANDARD
TZOFFSETFROM:-0500
TZOFFSETTO:-0600
TZNAME:CST
DTSTART:20261101T070000
END:STANDARD
BEGIN:DAYLIGHT
TZOFFSETFROM:-0600
TZOFFSETTO:-0500
TZNAME:CDT
DTSTART:20270314T080000
END:DAYLIGHT
BEGIN:STANDARD
TZOFFSETFROM:-0500
TZOFFSETTO:-0600
TZNAME:CST
DTSTART:20271107T070000
END:STANDARD
END:VTIMEZONE
BEGIN:VEVENT
DTSTART;TZID=America/Chicago:20260424T181500
DTEND;TZID=America/Chicago:20260424T190000
DTSTAMP:20260424T052255
CREATED:20260109T062033Z
LAST-MODIFIED:20260422T102035Z
UID:10569156-1777054500-1777057200@www.gwcymca.org
SUMMARY:Adult Beginner Swim Lessons (16+)
DESCRIPTION:“Individuals choosing this level may have a fear of the water\, have very little to no swimming skills\, and are ready to take the first step toward learning to swim. You will work toward your own personal goals while working on water adjustment\, gaining confidence\, floating\, basic swimming skills\, and basic personal safety skills.\nAges 16 and older.”
URL:https://www.gwcymca.org/program/adult-beginner-swim-lessons-16-13/2026-04-24/
LOCATION:Southwest YMCA
CATEGORIES:Aquatics
END:VEVENT
END:VCALENDAR