BEGIN:VCALENDAR
VERSION:2.0
PRODID:-//YMCA of Greater Waukesha County - ECPv6.15.20//NONSGML v1.0//EN
CALSCALE:GREGORIAN
METHOD:PUBLISH
X-WR-CALNAME:YMCA of Greater Waukesha County
X-ORIGINAL-URL:https://www.gwcymca.org
X-WR-CALDESC:Events for YMCA of Greater Waukesha County
REFRESH-INTERVAL;VALUE=DURATION:PT1H
X-Robots-Tag:noindex
X-PUBLISHED-TTL:PT1H
BEGIN:VTIMEZONE
TZID:America/Chicago
BEGIN:DAYLIGHT
TZOFFSETFROM:-0600
TZOFFSETTO:-0500
TZNAME:CDT
DTSTART:20250309T080000
END:DAYLIGHT
BEGIN:STANDARD
TZOFFSETFROM:-0500
TZOFFSETTO:-0600
TZNAME:CST
DTSTART:20251102T070000
END:STANDARD
BEGIN:DAYLIGHT
TZOFFSETFROM:-0600
TZOFFSETTO:-0500
TZNAME:CDT
DTSTART:20260308T080000
END:DAYLIGHT
BEGIN:STANDARD
TZOFFSETFROM:-0500
TZOFFSETTO:-0600
TZNAME:CST
DTSTART:20261101T070000
END:STANDARD
BEGIN:DAYLIGHT
TZOFFSETFROM:-0600
TZOFFSETTO:-0500
TZNAME:CDT
DTSTART:20270314T080000
END:DAYLIGHT
BEGIN:STANDARD
TZOFFSETFROM:-0500
TZOFFSETTO:-0600
TZNAME:CST
DTSTART:20271107T070000
END:STANDARD
END:VTIMEZONE
BEGIN:VEVENT
DTSTART;TZID=America/Chicago:20260421T174000
DTEND;TZID=America/Chicago:20260421T181000
DTSTAMP:20260419T075200
CREATED:20260109T062052Z
LAST-MODIFIED:20260417T200602Z
UID:10569198-1776793200-1776795000@www.gwcymca.org
SUMMARY:School Age Swim Stage 6 (6-12)
DESCRIPTION:“Stroke Mechanics: Children entering this level should be able to swim 25 yards of front crawl\, back crawl and breaststroke. Students refine stroke technique on all major competitive strokes\, learn about competitive swimming\, and discover how to incorporate swimming into a healthy lifestyle.\nAges 6-12 years.”
URL:https://www.gwcymca.org/program/school-age-swim-stage-6-6-12-20/2026-04-21/
LOCATION:Southwest YMCA
CATEGORIES:Aquatics
END:VEVENT
END:VCALENDAR