BEGIN:VCALENDAR
VERSION:2.0
PRODID:-//YMCA of Greater Waukesha County - ECPv6.15.20//NONSGML v1.0//EN
CALSCALE:GREGORIAN
METHOD:PUBLISH
X-WR-CALNAME:YMCA of Greater Waukesha County
X-ORIGINAL-URL:https://www.gwcymca.org
X-WR-CALDESC:Events for YMCA of Greater Waukesha County
REFRESH-INTERVAL;VALUE=DURATION:PT1H
X-Robots-Tag:noindex
X-PUBLISHED-TTL:PT1H
BEGIN:VTIMEZONE
TZID:America/Chicago
BEGIN:DAYLIGHT
TZOFFSETFROM:-0600
TZOFFSETTO:-0500
TZNAME:CDT
DTSTART:20250309T080000
END:DAYLIGHT
BEGIN:STANDARD
TZOFFSETFROM:-0500
TZOFFSETTO:-0600
TZNAME:CST
DTSTART:20251102T070000
END:STANDARD
BEGIN:DAYLIGHT
TZOFFSETFROM:-0600
TZOFFSETTO:-0500
TZNAME:CDT
DTSTART:20260308T080000
END:DAYLIGHT
BEGIN:STANDARD
TZOFFSETFROM:-0500
TZOFFSETTO:-0600
TZNAME:CST
DTSTART:20261101T070000
END:STANDARD
BEGIN:DAYLIGHT
TZOFFSETFROM:-0600
TZOFFSETTO:-0500
TZNAME:CDT
DTSTART:20270314T080000
END:DAYLIGHT
BEGIN:STANDARD
TZOFFSETFROM:-0500
TZOFFSETTO:-0600
TZNAME:CST
DTSTART:20271107T070000
END:STANDARD
END:VTIMEZONE
BEGIN:VEVENT
DTSTART;TZID=America/Chicago:20260615T090000
DTEND;TZID=America/Chicago:20260615T113000
DTSTAMP:20260424T034347
CREATED:20260126T232011Z
LAST-MODIFIED:20260422T052035Z
UID:10596797-1781514000-1781523000@www.gwcymca.org
SUMMARY:Summer Learning Adventures (3-5)
DESCRIPTION:Summer Learning Adventures is a preschool and kindergarten readiness program designed for eager little ones to experience school in a condensed format. Each session incorporates themes and age-appropriate activities\, promoting academic and social development\, skill mastery\, friendship building\, and FUN! Days feature themed activities. stories\, crafts\, and free play. All participants must be potty-trained.
URL:https://www.gwcymca.org/program/summer-learning-adventures-3-5-8/2026-06-15/
LOCATION:Mukwonago YMCA
CATEGORIES:Enrichment
GEO:42.8536361;-88.3102259
END:VEVENT
BEGIN:VEVENT
DTSTART;TZID=America/Chicago:20260617T090000
DTEND;TZID=America/Chicago:20260617T113000
DTSTAMP:20260424T034347
CREATED:20260126T232011Z
LAST-MODIFIED:20260422T052035Z
UID:10596838-1781686800-1781695800@www.gwcymca.org
SUMMARY:Summer Learning Adventures (3-5)
DESCRIPTION:Summer Learning Adventures is a preschool and kindergarten readiness program designed for eager little ones to experience school in a condensed format. Each session incorporates themes and age-appropriate activities\, promoting academic and social development\, skill mastery\, friendship building\, and FUN! Days feature themed activities. stories\, crafts\, and free play. All participants must be potty-trained.
URL:https://www.gwcymca.org/program/summer-learning-adventures-3-5-8/2026-06-17/
LOCATION:Mukwonago YMCA
CATEGORIES:Enrichment
GEO:42.8536361;-88.3102259
END:VEVENT
BEGIN:VEVENT
DTSTART;TZID=America/Chicago:20260622T090000
DTEND;TZID=America/Chicago:20260622T113000
DTSTAMP:20260424T034347
CREATED:20260126T232011Z
LAST-MODIFIED:20260422T052035Z
UID:10596839-1782118800-1782127800@www.gwcymca.org
SUMMARY:Summer Learning Adventures (3-5)
DESCRIPTION:Summer Learning Adventures is a preschool and kindergarten readiness program designed for eager little ones to experience school in a condensed format. Each session incorporates themes and age-appropriate activities\, promoting academic and social development\, skill mastery\, friendship building\, and FUN! Days feature themed activities. stories\, crafts\, and free play. All participants must be potty-trained.
URL:https://www.gwcymca.org/program/summer-learning-adventures-3-5-8/2026-06-22/
LOCATION:Mukwonago YMCA
CATEGORIES:Enrichment
GEO:42.8536361;-88.3102259
END:VEVENT
BEGIN:VEVENT
DTSTART;TZID=America/Chicago:20260624T090000
DTEND;TZID=America/Chicago:20260624T113000
DTSTAMP:20260424T034347
CREATED:20260126T232011Z
LAST-MODIFIED:20260422T052035Z
UID:10596840-1782291600-1782300600@www.gwcymca.org
SUMMARY:Summer Learning Adventures (3-5)
DESCRIPTION:Summer Learning Adventures is a preschool and kindergarten readiness program designed for eager little ones to experience school in a condensed format. Each session incorporates themes and age-appropriate activities\, promoting academic and social development\, skill mastery\, friendship building\, and FUN! Days feature themed activities. stories\, crafts\, and free play. All participants must be potty-trained.
URL:https://www.gwcymca.org/program/summer-learning-adventures-3-5-8/2026-06-24/
LOCATION:Mukwonago YMCA
CATEGORIES:Enrichment
GEO:42.8536361;-88.3102259
END:VEVENT
BEGIN:VEVENT
DTSTART;TZID=America/Chicago:20260629T090000
DTEND;TZID=America/Chicago:20260629T113000
DTSTAMP:20260424T034347
CREATED:20260126T232011Z
LAST-MODIFIED:20260422T052035Z
UID:10596841-1782723600-1782732600@www.gwcymca.org
SUMMARY:Summer Learning Adventures (3-5)
DESCRIPTION:Summer Learning Adventures is a preschool and kindergarten readiness program designed for eager little ones to experience school in a condensed format. Each session incorporates themes and age-appropriate activities\, promoting academic and social development\, skill mastery\, friendship building\, and FUN! Days feature themed activities. stories\, crafts\, and free play. All participants must be potty-trained.
URL:https://www.gwcymca.org/program/summer-learning-adventures-3-5-8/2026-06-29/
LOCATION:Mukwonago YMCA
CATEGORIES:Enrichment
GEO:42.8536361;-88.3102259
END:VEVENT
BEGIN:VEVENT
DTSTART;TZID=America/Chicago:20260701T090000
DTEND;TZID=America/Chicago:20260701T113000
DTSTAMP:20260424T034347
CREATED:20260126T232011Z
LAST-MODIFIED:20260422T052035Z
UID:10596842-1782896400-1782905400@www.gwcymca.org
SUMMARY:Summer Learning Adventures (3-5)
DESCRIPTION:Summer Learning Adventures is a preschool and kindergarten readiness program designed for eager little ones to experience school in a condensed format. Each session incorporates themes and age-appropriate activities\, promoting academic and social development\, skill mastery\, friendship building\, and FUN! Days feature themed activities. stories\, crafts\, and free play. All participants must be potty-trained.
URL:https://www.gwcymca.org/program/summer-learning-adventures-3-5-8/2026-07-01/
LOCATION:Mukwonago YMCA
CATEGORIES:Enrichment
GEO:42.8536361;-88.3102259
END:VEVENT
END:VCALENDAR