BEGIN:VCALENDAR
VERSION:2.0
PRODID:-//YMCA of Greater Waukesha County - ECPv6.15.20//NONSGML v1.0//EN
CALSCALE:GREGORIAN
METHOD:PUBLISH
X-WR-CALNAME:YMCA of Greater Waukesha County
X-ORIGINAL-URL:https://www.gwcymca.org
X-WR-CALDESC:Events for YMCA of Greater Waukesha County
REFRESH-INTERVAL;VALUE=DURATION:PT1H
X-Robots-Tag:noindex
X-PUBLISHED-TTL:PT1H
BEGIN:VTIMEZONE
TZID:America/Chicago
BEGIN:DAYLIGHT
TZOFFSETFROM:-0600
TZOFFSETTO:-0500
TZNAME:CDT
DTSTART:20250309T080000
END:DAYLIGHT
BEGIN:STANDARD
TZOFFSETFROM:-0500
TZOFFSETTO:-0600
TZNAME:CST
DTSTART:20251102T070000
END:STANDARD
BEGIN:DAYLIGHT
TZOFFSETFROM:-0600
TZOFFSETTO:-0500
TZNAME:CDT
DTSTART:20260308T080000
END:DAYLIGHT
BEGIN:STANDARD
TZOFFSETFROM:-0500
TZOFFSETTO:-0600
TZNAME:CST
DTSTART:20261101T070000
END:STANDARD
BEGIN:DAYLIGHT
TZOFFSETFROM:-0600
TZOFFSETTO:-0500
TZNAME:CDT
DTSTART:20270314T080000
END:DAYLIGHT
BEGIN:STANDARD
TZOFFSETFROM:-0500
TZOFFSETTO:-0600
TZNAME:CST
DTSTART:20271107T070000
END:STANDARD
END:VTIMEZONE
BEGIN:VEVENT
DTSTART;TZID=America/Chicago:20260428T163000
DTEND;TZID=America/Chicago:20260428T170000
DTSTAMP:20260421T112720
CREATED:20260228T142023Z
LAST-MODIFIED:20260419T135120Z
UID:10608372-1777393800-1777395600@www.gwcymca.org
SUMMARY:Preschool Swim Stage 1 (3-5)
DESCRIPTION:Water Acclimation: Children entering this level should be comfortable working with an instructor without a parent in the water.  Students develop comfort with underwater exploration and learn to safely exit in the event of falling into a body of water.\nAges 3-5 years.
URL:https://www.gwcymca.org/program/preschool-swim-stage-1-3-5-108/2026-04-28/
LOCATION:Waukesha YMCA
CATEGORIES:Aquatics
END:VEVENT
BEGIN:VEVENT
DTSTART;TZID=America/Chicago:20260505T163000
DTEND;TZID=America/Chicago:20260505T170000
DTSTAMP:20260421T112721
CREATED:20260228T142023Z
LAST-MODIFIED:20260419T135120Z
UID:10608444-1777998600-1778000400@www.gwcymca.org
SUMMARY:Preschool Swim Stage 1 (3-5)
DESCRIPTION:Water Acclimation: Children entering this level should be comfortable working with an instructor without a parent in the water.  Students develop comfort with underwater exploration and learn to safely exit in the event of falling into a body of water.\nAges 3-5 years.
URL:https://www.gwcymca.org/program/preschool-swim-stage-1-3-5-108/2026-05-05/
LOCATION:Waukesha YMCA
CATEGORIES:Aquatics
END:VEVENT
BEGIN:VEVENT
DTSTART;TZID=America/Chicago:20260512T163000
DTEND;TZID=America/Chicago:20260512T170000
DTSTAMP:20260421T112721
CREATED:20260228T142023Z
LAST-MODIFIED:20260419T135120Z
UID:10608445-1778603400-1778605200@www.gwcymca.org
SUMMARY:Preschool Swim Stage 1 (3-5)
DESCRIPTION:Water Acclimation: Children entering this level should be comfortable working with an instructor without a parent in the water.  Students develop comfort with underwater exploration and learn to safely exit in the event of falling into a body of water.\nAges 3-5 years.
URL:https://www.gwcymca.org/program/preschool-swim-stage-1-3-5-108/2026-05-12/
LOCATION:Waukesha YMCA
CATEGORIES:Aquatics
END:VEVENT
BEGIN:VEVENT
DTSTART;TZID=America/Chicago:20260519T163000
DTEND;TZID=America/Chicago:20260519T170000
DTSTAMP:20260421T112721
CREATED:20260228T142023Z
LAST-MODIFIED:20260419T135120Z
UID:10608446-1779208200-1779210000@www.gwcymca.org
SUMMARY:Preschool Swim Stage 1 (3-5)
DESCRIPTION:Water Acclimation: Children entering this level should be comfortable working with an instructor without a parent in the water.  Students develop comfort with underwater exploration and learn to safely exit in the event of falling into a body of water.\nAges 3-5 years.
URL:https://www.gwcymca.org/program/preschool-swim-stage-1-3-5-108/2026-05-19/
LOCATION:Waukesha YMCA
CATEGORIES:Aquatics
END:VEVENT
BEGIN:VEVENT
DTSTART;TZID=America/Chicago:20260526T163000
DTEND;TZID=America/Chicago:20260526T170000
DTSTAMP:20260421T112721
CREATED:20260228T142023Z
LAST-MODIFIED:20260419T135120Z
UID:10608447-1779813000-1779814800@www.gwcymca.org
SUMMARY:Preschool Swim Stage 1 (3-5)
DESCRIPTION:Water Acclimation: Children entering this level should be comfortable working with an instructor without a parent in the water.  Students develop comfort with underwater exploration and learn to safely exit in the event of falling into a body of water.\nAges 3-5 years.
URL:https://www.gwcymca.org/program/preschool-swim-stage-1-3-5-108/2026-05-26/
LOCATION:Waukesha YMCA
CATEGORIES:Aquatics
END:VEVENT
BEGIN:VEVENT
DTSTART;TZID=America/Chicago:20260602T163000
DTEND;TZID=America/Chicago:20260602T170000
DTSTAMP:20260421T112722
CREATED:20260228T142023Z
LAST-MODIFIED:20260419T135120Z
UID:10608448-1780417800-1780419600@www.gwcymca.org
SUMMARY:Preschool Swim Stage 1 (3-5)
DESCRIPTION:Water Acclimation: Children entering this level should be comfortable working with an instructor without a parent in the water.  Students develop comfort with underwater exploration and learn to safely exit in the event of falling into a body of water.\nAges 3-5 years.
URL:https://www.gwcymca.org/program/preschool-swim-stage-1-3-5-108/2026-06-02/
LOCATION:Waukesha YMCA
CATEGORIES:Aquatics
END:VEVENT
BEGIN:VEVENT
DTSTART;TZID=America/Chicago:20260609T163000
DTEND;TZID=America/Chicago:20260609T170000
DTSTAMP:20260421T112722
CREATED:20260228T142023Z
LAST-MODIFIED:20260419T135120Z
UID:10608449-1781022600-1781024400@www.gwcymca.org
SUMMARY:Preschool Swim Stage 1 (3-5)
DESCRIPTION:Water Acclimation: Children entering this level should be comfortable working with an instructor without a parent in the water.  Students develop comfort with underwater exploration and learn to safely exit in the event of falling into a body of water.\nAges 3-5 years.
URL:https://www.gwcymca.org/program/preschool-swim-stage-1-3-5-108/2026-06-09/
LOCATION:Waukesha YMCA
CATEGORIES:Aquatics
END:VEVENT
END:VCALENDAR