BEGIN:VCALENDAR
VERSION:2.0
PRODID:-//YMCA of Greater Waukesha County - ECPv6.15.20//NONSGML v1.0//EN
CALSCALE:GREGORIAN
METHOD:PUBLISH
X-WR-CALNAME:YMCA of Greater Waukesha County
X-ORIGINAL-URL:https://www.gwcymca.org
X-WR-CALDESC:Events for YMCA of Greater Waukesha County
REFRESH-INTERVAL;VALUE=DURATION:PT1H
X-Robots-Tag:noindex
X-PUBLISHED-TTL:PT1H
BEGIN:VTIMEZONE
TZID:America/Chicago
BEGIN:DAYLIGHT
TZOFFSETFROM:-0600
TZOFFSETTO:-0500
TZNAME:CDT
DTSTART:20250309T080000
END:DAYLIGHT
BEGIN:STANDARD
TZOFFSETFROM:-0500
TZOFFSETTO:-0600
TZNAME:CST
DTSTART:20251102T070000
END:STANDARD
BEGIN:DAYLIGHT
TZOFFSETFROM:-0600
TZOFFSETTO:-0500
TZNAME:CDT
DTSTART:20260308T080000
END:DAYLIGHT
BEGIN:STANDARD
TZOFFSETFROM:-0500
TZOFFSETTO:-0600
TZNAME:CST
DTSTART:20261101T070000
END:STANDARD
BEGIN:DAYLIGHT
TZOFFSETFROM:-0600
TZOFFSETTO:-0500
TZNAME:CDT
DTSTART:20270314T080000
END:DAYLIGHT
BEGIN:STANDARD
TZOFFSETFROM:-0500
TZOFFSETTO:-0600
TZNAME:CST
DTSTART:20271107T070000
END:STANDARD
END:VTIMEZONE
BEGIN:VEVENT
DTSTART;TZID=America/Chicago:20260502T084500
DTEND;TZID=America/Chicago:20260502T091500
DTSTAMP:20260421T050626
CREATED:20260228T173520Z
LAST-MODIFIED:20260419T173515Z
UID:10610069-1777711500-1777713300@www.gwcymca.org
SUMMARY:Preschool Stage 1 W/ Parent (2-4)
DESCRIPTION:“Water Acclimation: For the child not quite ready to swim without the parent.  Transition between parent and instructor throughout first half of session.  Focus is on learning to listen to an instructor\, becoming comfortable in the water\, and safely exploring movement in the water.\nAges 2.5-4 years.”
URL:https://www.gwcymca.org/program/preschool-stage-1-w-parent-2-4-60/2026-05-02/
LOCATION:Tri County YMCA
CATEGORIES:Aquatics
END:VEVENT
BEGIN:VEVENT
DTSTART;TZID=America/Chicago:20260509T084500
DTEND;TZID=America/Chicago:20260509T091500
DTSTAMP:20260421T050626
CREATED:20260228T173520Z
LAST-MODIFIED:20260419T173515Z
UID:10610101-1778316300-1778318100@www.gwcymca.org
SUMMARY:Preschool Stage 1 W/ Parent (2-4)
DESCRIPTION:“Water Acclimation: For the child not quite ready to swim without the parent.  Transition between parent and instructor throughout first half of session.  Focus is on learning to listen to an instructor\, becoming comfortable in the water\, and safely exploring movement in the water.\nAges 2.5-4 years.”
URL:https://www.gwcymca.org/program/preschool-stage-1-w-parent-2-4-60/2026-05-09/
LOCATION:Tri County YMCA
CATEGORIES:Aquatics
END:VEVENT
BEGIN:VEVENT
DTSTART;TZID=America/Chicago:20260516T084500
DTEND;TZID=America/Chicago:20260516T091500
DTSTAMP:20260421T050626
CREATED:20260228T173520Z
LAST-MODIFIED:20260419T173515Z
UID:10610102-1778921100-1778922900@www.gwcymca.org
SUMMARY:Preschool Stage 1 W/ Parent (2-4)
DESCRIPTION:“Water Acclimation: For the child not quite ready to swim without the parent.  Transition between parent and instructor throughout first half of session.  Focus is on learning to listen to an instructor\, becoming comfortable in the water\, and safely exploring movement in the water.\nAges 2.5-4 years.”
URL:https://www.gwcymca.org/program/preschool-stage-1-w-parent-2-4-60/2026-05-16/
LOCATION:Tri County YMCA
CATEGORIES:Aquatics
END:VEVENT
BEGIN:VEVENT
DTSTART;TZID=America/Chicago:20260523T084500
DTEND;TZID=America/Chicago:20260523T091500
DTSTAMP:20260421T050627
CREATED:20260228T173520Z
LAST-MODIFIED:20260419T173515Z
UID:10610103-1779525900-1779527700@www.gwcymca.org
SUMMARY:Preschool Stage 1 W/ Parent (2-4)
DESCRIPTION:“Water Acclimation: For the child not quite ready to swim without the parent.  Transition between parent and instructor throughout first half of session.  Focus is on learning to listen to an instructor\, becoming comfortable in the water\, and safely exploring movement in the water.\nAges 2.5-4 years.”
URL:https://www.gwcymca.org/program/preschool-stage-1-w-parent-2-4-60/2026-05-23/
LOCATION:Tri County YMCA
CATEGORIES:Aquatics
END:VEVENT
BEGIN:VEVENT
DTSTART;TZID=America/Chicago:20260530T084500
DTEND;TZID=America/Chicago:20260530T091500
DTSTAMP:20260421T050627
CREATED:20260228T173520Z
LAST-MODIFIED:20260419T173515Z
UID:10610104-1780130700-1780132500@www.gwcymca.org
SUMMARY:Preschool Stage 1 W/ Parent (2-4)
DESCRIPTION:“Water Acclimation: For the child not quite ready to swim without the parent.  Transition between parent and instructor throughout first half of session.  Focus is on learning to listen to an instructor\, becoming comfortable in the water\, and safely exploring movement in the water.\nAges 2.5-4 years.”
URL:https://www.gwcymca.org/program/preschool-stage-1-w-parent-2-4-60/2026-05-30/
LOCATION:Tri County YMCA
CATEGORIES:Aquatics
END:VEVENT
BEGIN:VEVENT
DTSTART;TZID=America/Chicago:20260606T084500
DTEND;TZID=America/Chicago:20260606T091500
DTSTAMP:20260421T050627
CREATED:20260228T173520Z
LAST-MODIFIED:20260419T173515Z
UID:10610105-1780735500-1780737300@www.gwcymca.org
SUMMARY:Preschool Stage 1 W/ Parent (2-4)
DESCRIPTION:“Water Acclimation: For the child not quite ready to swim without the parent.  Transition between parent and instructor throughout first half of session.  Focus is on learning to listen to an instructor\, becoming comfortable in the water\, and safely exploring movement in the water.\nAges 2.5-4 years.”
URL:https://www.gwcymca.org/program/preschool-stage-1-w-parent-2-4-60/2026-06-06/
LOCATION:Tri County YMCA
CATEGORIES:Aquatics
END:VEVENT
BEGIN:VEVENT
DTSTART;TZID=America/Chicago:20260613T084500
DTEND;TZID=America/Chicago:20260613T091500
DTSTAMP:20260421T050628
CREATED:20260228T173520Z
LAST-MODIFIED:20260419T173515Z
UID:10610106-1781340300-1781342100@www.gwcymca.org
SUMMARY:Preschool Stage 1 W/ Parent (2-4)
DESCRIPTION:“Water Acclimation: For the child not quite ready to swim without the parent.  Transition between parent and instructor throughout first half of session.  Focus is on learning to listen to an instructor\, becoming comfortable in the water\, and safely exploring movement in the water.\nAges 2.5-4 years.”
URL:https://www.gwcymca.org/program/preschool-stage-1-w-parent-2-4-60/2026-06-13/
LOCATION:Tri County YMCA
CATEGORIES:Aquatics
END:VEVENT
END:VCALENDAR